View In:
ArcGIS JavaScript
ArcGIS Online Map Viewer
ArcGIS Earth
Service Description: This free, publically available base layer imagery is a whole of State layer configured as a flattened and seamless single service. It can be used as a background in conjunction with other data services to provide a spatial reference and contains 1:100,000 aerial imagery tiles, regional and town site/Aboriginal Community mosaics that are a minimum of 400 days old.
Name: SLIP_Public_Services/Locate
Description: This free, publically available base layer imagery is a whole of State layer configured as a flattened and seamless single service. It can be used as a background in conjunction with other data services to provide a spatial reference and contains 1:100,000 aerial imagery tiles, regional and town site/Aboriginal Community mosaics that are a minimum of 400 days old.
Single Fused Map Cache: false
Extent:
XMin: 96.79394282300007
YMin: -35.31342720399998
XMax: 129.81262262300007
YMax: -10.40955960399998
Spatial Reference: 7844
(7844)
Initial Extent:
XMin: 96.79394282300007
YMin: -35.31342720399998
XMax: 129.81262262300007
YMax: -10.40955960399998
Spatial Reference: 7844
(7844)
Full Extent:
XMin: 96.79394282300007
YMin: -35.31342720399998
XMax: 129.81262262300007
YMax: -10.40955960399998
Spatial Reference: 7844
(7844)
Pixel Size X: 4.5000000000000003E-7
Pixel Size Y: 4.5E-7
Band Count: 3
Pixel Type: U8
RasterFunction Infos: {"rasterFunctionInfos": [{
"help": "",
"name": "None",
"description": "A No-Op Function."
}]}
Mensuration Capabilities: None
Inspection Capabilities:
Has Histograms: true
Has Colormap: false
Has Multi Dimensions : false
Rendering Rule:
Min Scale: 0
Max Scale: 0
Copyright Text:
Service Data Type: esriImageServiceDataTypeRGB
Min Values: 0, 0, 5
Max Values: 255, 255, 255
Mean Values: 150.87430580749927, 116.42845669882263, 91.973019904060379
Standard Deviation Values: 62.108121441131665, 36.346243795346943, 23.726508384262502
Object ID Field: objectid
Fields:
-
objectid
(
alias: objectid, type: esriFieldTypeOID
)
-
name
(
length: 200, alias: name, type: esriFieldTypeString
)
-
minps
(
alias: minps, type: esriFieldTypeDouble
)
-
maxps
(
alias: maxps, type: esriFieldTypeDouble
)
-
lowps
(
alias: lowps, type: esriFieldTypeDouble
)
-
highps
(
alias: highps, type: esriFieldTypeDouble
)
-
category
(
alias: category, type: esriFieldTypeInteger
, Coded Values:
[0: Unknown]
, [1: Primary]
, [2: Overview]
, ...5 more...
)
-
tag
(
length: 100, alias: tag, type: esriFieldTypeString
)
-
groupname
(
length: 100, alias: groupname, type: esriFieldTypeString
)
-
productname
(
length: 100, alias: productname, type: esriFieldTypeString
)
-
centerx
(
alias: centerx, type: esriFieldTypeDouble
)
-
centery
(
alias: centery, type: esriFieldTypeDouble
)
-
zorder
(
alias: zorder, type: esriFieldTypeInteger
)
-
ground_resolution
(
alias: ground_resolution, type: esriFieldTypeDouble
)
-
capture_start_date
(
length: 8, alias: capture_start_date, type: esriFieldTypeDate
)
-
capture_finish_date
(
length: 8, alias: capture_finish_date, type: esriFieldTypeDate
)
-
capture_date_text
(
length: 255, alias: capture_date_text, type: esriFieldTypeString
)
-
location_text
(
length: 255, alias: location_text, type: esriFieldTypeString
)
-
accuracy_in_meters
(
alias: accuracy_in_meters, type: esriFieldTypeDouble
)
-
project_classification
(
length: 255, alias: project_classification, type: esriFieldTypeString
)
-
status
(
length: 255, alias: status, type: esriFieldTypeString
)
-
namelink
(
length: 255, alias: namelink, type: esriFieldTypeString
)
-
shape
(
alias: shape, type: esriFieldTypeGeometry
)
Default Mosaic Method: Northwest
Allowed Mosaic Methods: NorthWest,Center,LockRaster,ByAttribute,Nadir,Viewpoint,Seamline,None
SortField:
SortValue: N/A
Mosaic Operator: First
Default Compression Quality: 75
Default Resampling Method: Bilinear
Max Record Count: 1000
Max Image Height: 4100
Max Image Width: 15000
Max Download Image Count: 1000
Max Mosaic Image Count: 1000
Allow Raster Function: true
Allow Copy: true
Allow Analysis: true
Allow Compute TiePoints: false
Supports Statistics: true
Supports Advanced Queries: true
Use StandardizedQueries: true
Raster Type Infos:
Name: Raster Dataset
Description: Supports all ArcGIS Raster Datasets
Help:
Has Raster Attribute Table: false
Edit Fields Info: N/A
Ownership Based AccessControl For Rasters: N/A
Child Resources:
Info
Histograms
Statistics
Key Properties
Legend
Raster Function Infos
Supported Operations:
Export Image
Query
Identify
Compute Histograms
Compute Statistics Histograms
Get Samples
Compute Class Statistics
Query GPS Info
Find Images
Image to Map
Map to Image
Measure from Image
Image to Map Multiray
Query Boundary
Compute Pixel Location
Compute Angles
Validate
Project